BEGIN:VCALENDAR
VERSION:2.0
PRODID:-//WSWV 101.9 FM 1570 AM - ECPv6.15.20//NONSGML v1.0//EN
CALSCALE:GREGORIAN
METHOD:PUBLISH
X-WR-CALNAME:WSWV 101.9 FM 1570 AM
X-ORIGINAL-URL:https://wswv.net
X-WR-CALDESC:Events for WSWV 101.9 FM 1570 AM
REFRESH-INTERVAL;VALUE=DURATION:PT1H
X-Robots-Tag:noindex
X-PUBLISHED-TTL:PT1H
BEGIN:VTIMEZONE
TZID:America/New_York
BEGIN:DAYLIGHT
TZOFFSETFROM:-0500
TZOFFSETTO:-0400
TZNAME:EDT
DTSTART:20250309T070000
END:DAYLIGHT
BEGIN:STANDARD
TZOFFSETFROM:-0400
TZOFFSETTO:-0500
TZNAME:EST
DTSTART:20251102T060000
END:STANDARD
BEGIN:DAYLIGHT
TZOFFSETFROM:-0500
TZOFFSETTO:-0400
TZNAME:EDT
DTSTART:20260308T070000
END:DAYLIGHT
BEGIN:STANDARD
TZOFFSETFROM:-0400
TZOFFSETTO:-0500
TZNAME:EST
DTSTART:20261101T060000
END:STANDARD
BEGIN:DAYLIGHT
TZOFFSETFROM:-0500
TZOFFSETTO:-0400
TZNAME:EDT
DTSTART:20270314T070000
END:DAYLIGHT
BEGIN:STANDARD
TZOFFSETFROM:-0400
TZOFFSETTO:-0500
TZNAME:EST
DTSTART:20271107T060000
END:STANDARD
END:VTIMEZONE
BEGIN:VEVENT
DTSTART;TZID=America/New_York:20260121T080000
DTEND;TZID=America/New_York:20260420T170000
DTSTAMP:20260421T040641
CREATED:20260121T144335Z
LAST-MODIFIED:20260121T144335Z
UID:3535-1768982400-1776704400@wswv.net
SUMMARY:George F. Cridlin Memorial Scholarship
DESCRIPTION:“I’m proud to offer the George F. Cridlin Memorial Scholarship again this year. Since 2019\, this scholarship has awarded over $20\,000 to students from Lee High and Thomas Walker\, honoring my dad’s legacy of service and giving back.To apply\, students must submit a two-page essay on the importance of community service\, a cause that meant a great deal to my dad. Winners will be selected by a panel of teachers at each school.If you’re a senior at Lee High or Thomas Walker\, I encourage you to apply. See the flyer for more details.”
URL:https://wswv.net/event/george-f-cridlin-memorial-scholarship/
ATTACH;FMTTYPE=image/jpeg:https://wswv.net/wp-content/uploads/619494816_1285820480245249_7029649050262614923_n.jpg
END:VEVENT
BEGIN:VEVENT
DTSTART;TZID=America/New_York:20260414T183000
DTEND;TZID=America/New_York:20260425T183000
DTSTAMP:20260421T040641
CREATED:20260408T135225Z
LAST-MODIFIED:20260408T135225Z
UID:3933-1776191400-1777141800@wswv.net
SUMMARY:Recovery Meetings This Month
DESCRIPTION:At Freedom Of Worship Church\, we believe healing happens when people come together\, support one another\, and let God lead the way.\n\n\n\n\n\n Recovery Meetings This Month:\n\n\n April 14 & April 28\n\n\n 6:30 PM\n\n\n\n\n\nWhether you’re struggling\, healing\, or supporting someone who is—there is a place for you here. No judgment. Just love\, prayer\, and real people walking through real life together.\n\n\n\n\n\n Join Us for Church:\n\n\n Sunday at 11:00 AM\n\n\n Wednesday at 7:00 PM\n\n\n 41374 Wilderness Rd\, Pennington Gap\, VA\n\n\n\n\n\n Come as you are. You don’t have to have it all together.\n\n\n We’ll worship together\, pray together\, and grow together.\n\n\n\n\n\n Need a ride to church or recovery? Message us here on Facebook—we’d love to help!\n\n\n\n\n\n This could be the place your heart has been searching for. Come see what God is doing.
URL:https://wswv.net/event/recovery-meetings-this-month/
ATTACH;FMTTYPE=image/jpeg:https://wswv.net/wp-content/uploads/662853700_4262509550685356_16783341583389739_n.jpg
END:VEVENT
END:VCALENDAR